BEGIN:VCALENDAR
VERSION:2.0
PRODID:-//https://schrattenbach.at//NONSGML kigkonsult.se iCalcreator 2.29.
 29//
CALSCALE:GREGORIAN
METHOD:PUBLISH
UID:50beb0ed-937d-4a37-a867-a4577527af58
X-WR-CALNAME:JCal Pro Kalender
X-WR-CALDESC:Ihr Online-Terminkalender
X-WR-TIMEZONE:UTC
BEGIN:VTIMEZONE
TZID:UTC
END:VTIMEZONE
BEGIN:VEVENT
UID:20240305T160000UTC-0806fexXse@https://schrattenbach.at/
DTSTAMP:20260424T063654Z
CATEGORIES:Veranstaltungen
DESCRIPTION:<p>Das neue Dorfcafé der Dorfgemeinschaft Schrattenbach in der 
 Kulturwerkstätte.</p>\n<p>Ab sofort jeden 1. Dienstag im Monat geöffnet!</
 p>
DTSTART:20251007T160000Z
DTEND:20251007T160000Z
SUMMARY:Dorfcafé 2025 der Dorfgemeinschaft Schrattenbach inkl. Hörtest
URL:https://schrattenbach.at/kalender-wochenansicht/24-veranstaltungen/1186
 6-dorfcafe-2025-der-dorfgemeinschaft-schrattenbach-inkl-hoertest
X-ALT-DESC;FMTTYPE=TEXT/HTML:<p>Das neue Dorfcafé der Dorfgemeinschaft Schr
 attenbach in der Kulturwerkstätte.</p>\n<p>Ab sofort jeden 1. Dienstag im 
 Monat geöffnet!</p>
END:VEVENT
END:VCALENDAR
