BEGIN:VCALENDAR
VERSION:2.0
PRODID:-//https://schrattenbach.at//NONSGML kigkonsult.se iCalcreator 2.29.
 29//
CALSCALE:GREGORIAN
METHOD:PUBLISH
UID:9f0ed445-1018-49b9-b3e5-47e9789dfbde
X-WR-CALNAME:JCal Pro Kalender
X-WR-CALDESC:Ihr Online-Terminkalender
X-WR-TIMEZONE:UTC
BEGIN:VTIMEZONE
TZID:UTC
END:VTIMEZONE
BEGIN:VEVENT
UID:20231229T193000UTC-0096HUKs24@https://schrattenbach.at/
DTSTAMP:20260419T141224Z
CATEGORIES:Veranstaltungen
DESCRIPTION:<div class='event-content'>\n<p><strong>Weihnachtskonzerte des 
 Musikvereins Bergknappenkapelle Grünbach</strong>&nbsp\;in der Barbarahall
 e&nbsp\;Forum-Grünbach!</p>\n<p>Freuen Sie sich auf grandiose Darbietungen
  mit den MusikerInnen und SängerInnen des MV Grünbach! Kartenvorverkauf&nb
 sp\;bei Fr. Hensler 02637/2201 (ab Oktober).</p>\n</div>
DTSTART:20241228T190000Z
DTEND:20241228T190000Z
RRULE:FREQ=DAILY;COUNT=2;INTERVAL=1
SUMMARY:Weihnachtskonzerte Musikverein Bergknappenkapelle Grünbach 2024
URL:https://schrattenbach.at/kalender-wochenansicht/24-veranstaltungen/1140
 3-weihnachtskonzerte-musikverein-bergknappenkapelle-gruenbach-2024
X-ALT-DESC;FMTTYPE=TEXT/HTML:<div class='event-content'>\n<p><strong>Weihna
 chtskonzerte des Musikvereins Bergknappenkapelle Grünbach</strong>&nbsp\;i
 n der Barbarahalle&nbsp\;Forum-Grünbach!</p>\n<p>Freuen Sie sich auf grand
 iose Darbietungen mit den MusikerInnen und SängerInnen des MV Grünbach! Ka
 rtenvorverkauf&nbsp\;bei Fr. Hensler 02637/2201 (ab Oktober).</p>\n</div>
END:VEVENT
END:VCALENDAR
