BEGIN:VCALENDAR
VERSION:2.0
PRODID:-//https://schrattenbach.at//NONSGML kigkonsult.se iCalcreator 2.29.
 29//
CALSCALE:GREGORIAN
METHOD:PUBLISH
UID:3cc82893-54c0-4b27-9d24-3707a530a8e0
X-WR-CALNAME:JCal Pro Kalender
X-WR-CALDESC:Ihr Online-Terminkalender
X-WR-TIMEZONE:UTC
BEGIN:VTIMEZONE
TZID:UTC
END:VTIMEZONE
BEGIN:VEVENT
UID:20230924T140000UTC-97729LV07t@https://schrattenbach.at/
DTSTAMP:20260421T092557Z
CATEGORIES:Veranstaltungen
DESCRIPTION:<p>Am Sonntag\, 22.09.2024\, findet am Nachmittag eine Wanderun
 g in unserem schönen Gemeindegebiet sowie zuvor die Begrüßung der Neugebor
 enen beim Willkommensbaum statt.</p>\n<p>Genauere Infos dazu finden Sie re
 chtzeitig auf der Startseite unserer Homepage!</p>
DTSTART:20240922T140000Z
DTEND:20240922T140000Z
SUMMARY:Herbstwanderung Gesunde Gemeinde 2024
URL:https://schrattenbach.at/kalender-wochenansicht/24-veranstaltungen/1122
 3-herbstwanderung-gesunde-gemeinde-2024
X-ALT-DESC;FMTTYPE=TEXT/HTML:<p>Am Sonntag\, 22.09.2024\, findet am Nachmit
 tag eine Wanderung in unserem schönen Gemeindegebiet sowie zuvor die Begrü
 ßung der Neugeborenen beim Willkommensbaum statt.</p>\n<p>Genauere Infos d
 azu finden Sie rechtzeitig auf der Startseite unserer Homepage!</p>
END:VEVENT
END:VCALENDAR
