BEGIN:VCALENDAR
VERSION:2.0
PRODID:-//https://schrattenbach.at//NONSGML kigkonsult.se iCalcreator 2.29.
 29//
CALSCALE:GREGORIAN
METHOD:PUBLISH
UID:6e9071c7-c6ff-4297-bedc-4d53fdc59e19
X-WR-CALNAME:JCal Pro Kalender
X-WR-CALDESC:Ihr Online-Terminkalender
X-WR-TIMEZONE:UTC
BEGIN:VTIMEZONE
TZID:UTC
END:VTIMEZONE
BEGIN:VEVENT
UID:20220126T120000UTC-5865ku6VNn@https://schrattenbach.at/
DTSTAMP:20260420T080005Z
CATEGORIES:Müllabfuhr
DTSTART:20230125T120000Z
DTEND:20230125T120000Z
RRULE:FREQ=MONTHLY;UNTIL=20231231T000000Z;INTERVAL=2;BYDAY=WE;BYSETPOS=-1
SUMMARY:Graue Tonne 2023
URL:https://schrattenbach.at/kalender-wochenansicht/17-muellabfuhr/8106-gra
 ue-tonne-2023
END:VEVENT
END:VCALENDAR
