BEGIN:VCALENDAR
VERSION:2.0
PRODID:-//https://schrattenbach.at//NONSGML kigkonsult.se iCalcreator 2.29.
 29//
CALSCALE:GREGORIAN
METHOD:PUBLISH
UID:707a6a35-4c74-4b3f-856e-2ce3544f00a8
X-WR-CALNAME:JCal Pro Kalender
X-WR-CALDESC:Ihr Online-Terminkalender
X-WR-TIMEZONE:UTC
BEGIN:VTIMEZONE
TZID:UTC
END:VTIMEZONE
BEGIN:VEVENT
UID:20171024T120000UTC-218343@http://schrattenbach.at/
DTSTAMP:20260419T120410Z
CATEGORIES:Müllabfuhr
DTSTART:20171219T120000Z
DTEND:20171219T120000Z
SUMMARY:Papier Tonne
URL:https://schrattenbach.at/kalender-wochenansicht/17-muellabfuhr/5851-pap
 ier-tonne
END:VEVENT
END:VCALENDAR
