BEGIN:VCALENDAR
VERSION:2.0
PRODID:-//https://schrattenbach.at//NONSGML kigkonsult.se iCalcreator 2.29.
 29//
CALSCALE:GREGORIAN
METHOD:PUBLISH
UID:82c71204-fd98-410f-bd99-d6388bd896a9
X-WR-CALNAME:JCal Pro Kalender
X-WR-CALDESC:Ihr Online-Terminkalender
X-WR-TIMEZONE:UTC
BEGIN:VTIMEZONE
TZID:UTC
END:VTIMEZONE
BEGIN:VEVENT
UID:20240206T120000UTC-7366cp7iwm@https://schrattenbach.at/
DTSTAMP:20260420T133507Z
CATEGORIES:Müllabfuhr
DTSTART:20250107T000000Z
DTEND:20250107T235959Z
RRULE:FREQ=WEEKLY;UNTIL=20251231T000000Z;INTERVAL=8;BYDAY=TU
SUMMARY:Papier Tonne 2025
URL:https://schrattenbach.at/kalender-wochenansicht/17-muellabfuhr/11614-pa
 pier-tonne-2025
END:VEVENT
END:VCALENDAR
