BEGIN:VCALENDAR
VERSION:2.0
PRODID:-//https://schrattenbach.at//NONSGML kigkonsult.se iCalcreator 2.29.
 29//
CALSCALE:GREGORIAN
METHOD:PUBLISH
UID:082d6e63-9b31-45a7-a0cf-b85bb6a22c54
X-WR-CALNAME:JCal Pro Kalender
X-WR-CALDESC:Ihr Online-Terminkalender
X-WR-TIMEZONE:UTC
BEGIN:VTIMEZONE
TZID:UTC
END:VTIMEZONE
BEGIN:VEVENT
UID:20230626T190000UTC-2195MalXd5@https://schrattenbach.at/
DTSTAMP:20260420T100253Z
CATEGORIES:Allgemein
DTSTART:20230919T190000Z
DTEND:20230919T190000Z
SUMMARY:Gemeinderatssitzung September 2023
URL:https://schrattenbach.at/kalender-wochenansicht/14-allgemein/11018-geme
 inderatssitzung-september-2023
END:VEVENT
END:VCALENDAR
